BEGIN:VCALENDAR
VERSION:2.0
PRODID:icalendar-ruby
CALSCALE:GREGORIAN
METHOD:PUBLISH
BEGIN:VEVENT
DTSTAMP:20260422T012044Z
UID:2-1099686@reedybranch.org
DTSTART:20260816T150000Z
DTEND:20260816T161500Z
CLASS:PUBLIC
CREATED:20260421T202347
DESCRIPTION:Our worship service is traditional in style and includes times 
 of adoration\, prayer\, and instruction in God's Word.
LAST-MODIFIED:20260421T202347
LOCATION:
SUMMARY:Worship Service
URL;VALUE=URI:https://www.reedybranch.org/events/worship-service--2/2026-08
 -16
ATTACH;FILENAME=brooke-lark-93583-unsplash.jpg;FMTTYPE=image/jpeg:https://d
 q5pwpg1q8ru0.cloudfront.net/2021/11/12/19/08/50/f2e8d070-8148-4d42-a89b-19
 b8701b3bea/brooke-lark-93583-unsplash.jpg
END:VEVENT
END:VCALENDAR
